BEGIN:VCALENDAR
VERSION:2.0
PRODID:icalendar-ruby
CALSCALE:GREGORIAN
METHOD:PUBLISH
X-WR-CALNAME:phcppros
BEGIN:VTIMEZONE
TZID:America/Indiana/Indianapolis
BEGIN:DAYLIGHT
DTSTART:20260308T030000
TZOFFSETFROM:-0500
TZOFFSETTO:-0400
RRULE:FREQ=YEARLY;BYDAY=2SU;BYMONTH=3
TZNAME:EDT
END:DAYLIGHT
BEGIN:STANDARD
DTSTART:20261101T010000
TZOFFSETFROM:-0400
TZOFFSETTO:-0500
RRULE:FREQ=YEARLY;BYDAY=1SU;BYMONTH=11
TZNAME:EST
END:STANDARD
END:VTIMEZONE
BEGIN:VEVENT
DTSTAMP:20260420T213801Z
UID:b39aa540-aa2f-401f-80fa-6fd7b5a2538e
DTSTART;TZID=America/Indiana/Indianapolis:20260507T170000
DTEND;TZID=America/Indiana/Indianapolis:20260507T200000
DESCRIPTION:Tradespeople and all members of the plumbing\, heating\, coolin
 g and piping (PHCP) industry are invited to attend an evening of golf\, f
 ood &amp\; drinks\, fun\, and merch!\n\nhttps://www.phcppros.com/events/72
 30-may-2026-rugged-road-show
LOCATION:Topgolf King of Prussia
SUMMARY:May 2026 RUGGED Road Show
URL:https://form.jotform.com/251615889240159
END:VEVENT
END:VCALENDAR
