BEGIN:VCALENDAR
VERSION:2.0
PRODID:icalendar-ruby
CALSCALE:GREGORIAN
METHOD:PUBLISH
X-WR-CALNAME:phcppros
BEGIN:VTIMEZONE
TZID:America/Atikokan
BEGIN:STANDARD
DTSTART:19450930T020000
TZOFFSETFROM:-0500
TZOFFSETTO:-0500
TZNAME:EST
END:STANDARD
END:VTIMEZONE
BEGIN:VEVENT
DTSTAMP:20260421T105309Z
UID:31f4063e-1193-4847-b0ba-a7c1808a7059
DTSTART;TZID=America/Atikokan:20261019T000000
DTEND;TZID=America/Atikokan:20261022T000000
DESCRIPTION:Thee annual conference brings together contractors from across 
 the country for valuable education sessions\, networking opportunities and
  industry insights designed to help strengthen their businesses.\n\nhttps:
 //www.phcppros.com/events/7225-phcc-connect-2026
LOCATION:Baird Center
SUMMARY:PHCC CONNECT 2026
URL:https://phccconnect2026.eventscribe.net/index.asp?launcher=1
END:VEVENT
END:VCALENDAR
