BEGIN:VCALENDAR
VERSION:2.0
PRODID:icalendar-ruby
CALSCALE:GREGORIAN
METHOD:PUBLISH
X-WR-CALNAME:phcppros
BEGIN:VTIMEZONE
TZID:America/Detroit
BEGIN:DAYLIGHT
DTSTART:20270314T030000
TZOFFSETFROM:-0500
TZOFFSETTO:-0400
RRULE:FREQ=YEARLY;BYDAY=2SU;BYMONTH=3
TZNAME:EDT
END:DAYLIGHT
BEGIN:STANDARD
DTSTART:20261101T010000
TZOFFSETFROM:-0400
TZOFFSETTO:-0500
RRULE:FREQ=YEARLY;BYDAY=1SU;BYMONTH=11
TZNAME:EST
END:STANDARD
END:VTIMEZONE
BEGIN:VEVENT
DTSTAMP:20260420T165940Z
UID:8c993393-b1fc-4cc2-a99f-497426673b07
DTSTART;TZID=America/Detroit:20261207T000000
DTEND;TZID=America/Detroit:20261210T000000
DESCRIPTION:This major four-day event for HARDI members brings together dis
 tributors\, manufacturers and vendors ready to drive their businesses forw
 ard. \n\nhttps://www.phcppros.com/events/7224-2026-hardi-annual-conferenc
 e
SUMMARY:2026 HARDI Annual Conference
URL:https://www.hardiconference.com/
END:VEVENT
END:VCALENDAR
