BEGIN:VCALENDAR
VERSION:2.0
PRODID:icalendar-ruby
CALSCALE:GREGORIAN
METHOD:PUBLISH
X-WR-CALNAME:phcppros
BEGIN:VTIMEZONE
TZID:America/Atikokan
BEGIN:STANDARD
DTSTART:19450930T020000
TZOFFSETFROM:-0500
TZOFFSETTO:-0500
TZNAME:EST
END:STANDARD
END:VTIMEZONE
BEGIN:VEVENT
DTSTAMP:20260423T080759Z
UID:72fb01ea-8e99-423e-9d76-c2a14d4e24b7
DTSTART;TZID=America/Atikokan:20261018T000000
DTEND;TZID=America/Atikokan:20261021T000000
DESCRIPTION:The Expo provides a platform for exhibitors to reach building s
 afety and design professionals\, including decision makers from local\, st
 ate\, and national levels\, who are dedicated to learning the latest indus
 try technologies.\n\nhttps://www.phcppros.com/events/7223-icc-2026-annual-
 conference-and-expo
LOCATION:Gaylord Opryland Resort & Convention Center
SUMMARY:ICC 2026 Annual Conference and Expo
URL:https://www.iccsafe.org/events/welcome
END:VEVENT
END:VCALENDAR
