BEGIN:VCALENDAR
VERSION:2.0
PRODID:icalendar-ruby
CALSCALE:GREGORIAN
METHOD:PUBLISH
X-WR-CALNAME:phcppros
BEGIN:VTIMEZONE
TZID:America/Atikokan
BEGIN:STANDARD
DTSTART:19450930T020000
TZOFFSETFROM:-0500
TZOFFSETTO:-0500
TZNAME:EST
END:STANDARD
END:VTIMEZONE
BEGIN:VEVENT
DTSTAMP:20260422T054448Z
UID:9dc0b3f6-b77c-44d0-a74c-6139b508aaec
DTSTART;TZID=America/Atikokan:20261008T000000
DTEND;TZID=America/Atikokan:20261014T000000
DESCRIPTION:Discover the latest in plumbing engineering\, sustainable desig
 n\, and industry innovations at the 2026 ASPE Expo. \n\nhttps://www.phcpp
 ros.com/events/7222-aspe-convention-expo-2026
LOCATION:Oklahoma City Convention Center
SUMMARY:ASPE Convention & Expo 2026
URL:https://expo.aspe.org/
END:VEVENT
END:VCALENDAR
