BEGIN:VCALENDAR
VERSION:2.0
PRODID:icalendar-ruby
CALSCALE:GREGORIAN
METHOD:PUBLISH
X-WR-CALNAME:phcppros
BEGIN:VTIMEZONE
TZID:America/Atikokan
BEGIN:STANDARD
DTSTART:19450930T020000
TZOFFSETFROM:-0500
TZOFFSETTO:-0500
TZNAME:EST
END:STANDARD
END:VTIMEZONE
BEGIN:VEVENT
DTSTAMP:20260421T035226Z
UID:7d27fecb-63e4-44f7-ad55-4e695fb0a599
DTSTART;TZID=America/Atikokan:20260913T000000
DTEND;TZID=America/Atikokan:20260917T000000
DESCRIPTION:The International Association of Plumbing &amp\; Mechanical Off
 icials community of plumbing experts plays a vital public health role in a
 ssuring access to clean water and sanitation.\n\nhttps://www.phcppros.com/
 events/7221-2026-iapmo-annual-education-and-business-conference
LOCATION:Sheraton Universal
SUMMARY:2026 IAPMO Annual Education and Business Conference
URL:https://www.iapmo.org/events
END:VEVENT
END:VCALENDAR
