BEGIN:VCALENDAR
VERSION:2.0
PRODID:icalendar-ruby
CALSCALE:GREGORIAN
METHOD:PUBLISH
X-WR-CALNAME:phcppros
BEGIN:VTIMEZONE
TZID:America/Atikokan
BEGIN:STANDARD
DTSTART:19450930T020000
TZOFFSETFROM:-0500
TZOFFSETTO:-0500
TZNAME:EST
END:STANDARD
END:VTIMEZONE
BEGIN:VEVENT
DTSTAMP:20260421T060208Z
UID:9022e983-9e8a-4b3c-a655-7d19581c3acd
DTSTART;TZID=America/Atikokan:20260520T000000
DTEND;TZID=America/Atikokan:20260521T000000
DESCRIPTION:This two-day event will bring together a wide range of rainwate
 r and stormwater professionals\, including engineers\, system designers\, 
 installers\, architects\, sustainability practitioners\, and more.\n\nhttp
 s://www.phcppros.com/events/7220-2026-arcsa-international-technical-sympos
 ium
LOCATION:Grundfos Headquarters
SUMMARY:2026 ARCSA International Technical Symposium
URL:https://arcsainternational.org/news/arcsa-international-technical-sympo
 sium
END:VEVENT
END:VCALENDAR
