BEGIN:VCALENDAR
VERSION:2.0
PRODID:icalendar-ruby
CALSCALE:GREGORIAN
METHOD:PUBLISH
X-WR-CALNAME:phcppros
BEGIN:VTIMEZONE
TZID:America/Atikokan
BEGIN:STANDARD
DTSTART:19450930T020000
TZOFFSETFROM:-0500
TZOFFSETTO:-0500
TZNAME:EST
END:STANDARD
END:VTIMEZONE
BEGIN:VEVENT
DTSTAMP:20260423T005334Z
UID:edff6549-16e8-49a7-b805-7422d8a474b3
DTSTART;TZID=America/Atikokan:20270429T000000
DTEND;TZID=America/Atikokan:20270430T000000
DESCRIPTION:The opportunity to network and share best practices with BLUE H
 AWK Member executives and team members is one of the most popular and valu
 able aspects of BLUE HAWK membership.\n\nhttps://www.phcppros.com/events/7
 218-blue-hawk-2027-annual-conference
LOCATION:Gaylord Pacific
SUMMARY:BLUE HAWK 2027 Annual Conference
URL:https://www.bluehawk.coop/events/
END:VEVENT
END:VCALENDAR
